Workbook

Sheet 겉표지
A1: =표지!A1 -> 內 譯 書 | Z1: 견적가로형식-1
C18: 件 名: | D18: =표지!C13 -> 샘플
C20: 提 出 處: | D20: =표지!C4 -> 貴下
C22: 提 出 日: | D22: =표지!C6 -> 2025년 2월 14일
D36: =표지!I3 -> 대 한 민 국 주 식 회 사
D37: =표지!I4
D38: =표지!I5 -> ㅇ ㅇ 시 ㅇ ㅇ 구 ㅇ ㅇ 동
D39: =표지!I6
D40: =표지!I7 -> 대표이사 홍 길 동
D41: =표지!I8
D42: =표지!I9 -> 대표전화 (02) 0 0 0 - 0 0 0 0
D43: =표지!I10
D44: =표지!I11 -> 팩 스 (02) 0 0 0 - 0 0 0 0
D45: =표지!I12
D46: =표지!I13

Sheet 표지
A1: 內 譯 書
I3: 대 한 민 국 주 식 회 사
B4: 제 출 처: | C4: 貴下
I5: ㅇ ㅇ 시 ㅇ ㅇ 구 ㅇ ㅇ 동
B6: 제 출 일: | C6: 2025년 2월 14일
I7: 대표이사 홍 길 동
B8: 아래와 같이 內譯書를 제출합니다.
I9: 대표전화 (02) 0 0 0 - 0 0 0 0
I11: 팩 스 (02) 0 0 0 - 0 0 0 0
B13: 공 사 명: | C13: 샘플
B15: 공사금액: | C15: ="一金"&NUMBERSTRING(F40,2)&"원整("&DOLLAR(F40,0)&")" -> 一金零원整(₩0)
B17: 내 용 | D17: 단위 | E17: 수량 | F17: 금 액 | H17: 비 고 | M17: 요율 | N17: 금액 | O17: 이윤 | P17: 끝자리맞추기
N18: =E18*F18 -> 0
N19: =E19*F19 -> 0
N20: =E20*F20 -> 0
N21: =E21*F21 -> 0
N22: =E22*F22 -> 0
N23: =E23*F23 -> 0
N24: =E24*F24 -> 0
N25: =E25*F25 -> 0
N26: =E26*F26 -> 0
N27: =E27*F27 -> 0
N28: =E28*F28 -> 0
N29: =E29*F29 -> 0
... N39: =E39*F39 -> 0
F40: =N40 -> 0 | N40: =SUM(N18:N39) -> 0
B41: 1. 부가가치세 별도
B42: 2. 한전불입금 별도

Sheet 원가
A1: 원 가 계 산 서
A3: 공사명: | C3: [ 친환경선박 연구지원 인프라 구축사업 2단계 연구동 스프링클러설비공사 ]
A4: 비 목 | C4: 구 분 | D4: 금 액 | E4: 구 성 비 | I4: 요율
B5: 재 료 비 | C5: 직 접 재 료 비 | D5: =총괄표!I29 -> 0
C6: 간 접 재 료 비
C7: ( 소 계 ) | D7: =SUM(D5:D6) -> 0
A8: 순 | B8: 노 무 비 | C8: 직 접 노 무 비 | D8: =총괄표!L29 -> 0
C9: 간 접 노 무 비 | D9: =TRUNC(D8*I9/100) -> 0 | E9: (직접 노무비) * 12.6 % | I9: 12.6
C10: ( 소 계 ) | D10: =SUM(D8:D9) -> 0
C11: 기 계 경 비 | D11: =총괄표!N29 -> 0
C12: 산 재 보 험 료 | D12: =TRUNC(D10*I12/100) -> 0 | E12: (노무비) * 3.56 % | I12: 3.56
A13: 공 | C13: 고 용 보 험 료 | D13: =TRUNC(D10*I13/100) -> 0 | E13: (노무비) * 1.01 % | I13: 1.01
B14: 경 | C14: 퇴 직 금 공 제 | D14: =TRUNC(D8*I14/100) -> 0 | E14: (직접 노무비) * 2.3 % | I14: 2.3
C15: 안 전 관 리 비 | D15: =TRUNC((D7+D8+0/1.1)*I15/100) -> 0 | E15: (재료+직노) * 3.11 % | I15: 3.11
C16: 기 타 경 비 | D16: =TRUNC((D7+D10)*I16/100) -> 0 | E16: (재료+노무) * 5.2 % | I16: 5.2
C17: 건 강 보 험 료 | D17: =TRUNC(D8*I17/100) -> 0 | E17: (직접 노무비) * 3.545 % | I17: 3.545
A18: 사 | C18: 연 금 보 험 료 | D18: =TRUNC(D8*I18/100) -> 0 | E18: (직접 노무비) * 4.5 % | I18: 4.5
C19: 노인장기요양보험 | D19: =TRUNC(D17*I19/100) -> 0 | E19: (건강 보험료) * 12.95 % | I19: 12.95
B22: 비
A23: 비
C25: ( 소 계 ) | D25: =SUM(D11:D24) -> 0
B26: ( 순 공 사 비 계 ) | D26: =D7+D10+D25 -> 0
A27: 일 반 관 리 비 | D27: =TRUNC((D7+D10+D25)*I27/100) -> 0 | E27: (재료+노무+경비) * 4 % | I27: 4
A28: 이 윤 | D28: =(D10+D25+D27)*I28% -> 0 | E28: (노무+경비+일반관리비) * 10 % | I28: 10
A29: 소방공사 배상책임 공제료 | D29: =ROUNDUP(TRUNC(SUM(D26:D28)*I29/100), -4) -> 0 | E29: (총공사비) * 0.364%(5억이하) , 천원이하 절상 | I29: 0.364
A30: ( 총 원 가 ) | D30: =SUM(D26:D29) -> 0
A31: 부 가 가 치 세 | D31: =D30*I31% -> 0 | I31: 10
A33: 총 공 사 비 | D33: =SUM(D30:D31) -> 0
A34: 관 급 자 재 비

Sheet 총괄표
A1: 총줄수-> | B1: 81 | D1: [ 친환경선박 연구지원 인프라 구축사업 2단계 연구동 스프링클러설비공사 ] | AA1: 연속견적가로형식
A2: 번호 | B2: 공종코드 | C2: … | D2: 공 종 명 | E2: 규격 | F2: 단위 | G2: 수량 | H2: 재료비 | J2: 노무비 | M2: 경비 | P2: 계 | Q2: 비고
H3: 단가 | I3: 금액 | J3: 수량 | K3: 단가 | L3: 금액 | M3: 단가 | N3: 금액 | O3: 단가
B4: 공종줄 | D4: 친환경대체연료 연구동 간이스프링클러설비 설
B5: 01 | D5: 1. 소방전기공사 | F5: 식 | G5: 1 | H5: =총괄표!I55 -> 0 | I5: =G5*H5 -> 0 | K5: =총괄표!L55 -> 0 | L5: =G5*K5 -> 0 | M5: =총괄표!N55 -> 0 | N5: =G5*M5 -> 0 | O5: =IF((H5+K5+M5)=0, "", (H5+K5+M5)) | P5: =SUM(I5,L5,N5) -> 0
B6: 02 | D6: 2. 소방기계공사 | F6: 식 | G6: 1 | H6: =총괄표!I81 -> 0 | I6: =G6*H6 -> 0 | K6: =총괄표!L81 -> 0 | L6: =G6*K6 -> 0 | M6: =총괄표!N81 -> 0 | N6: =G6*M6 -> 0 | O6: =IF((H6+K6+M6)=0, "", (H6+K6+M6)) | P6: =SUM(I6,L6,N6) -> 0
C29: Total | D29: ( 합 계 ) | I29: =TRUNC(SUM(I4:I28)) -> 0 | L29: =TRUNC(SUM(L4:L28)) -> 0 | N29: =TRUNC(SUM(N4:N28)) -> 0 | O29: =IF((H29+K29+M29)=0, "", (H29+K29+M29)) | P29: =TRUNC(SUM(P4:P28)) -> 0
B30: 공종줄 | D30: 1.소방전기공사
B31: 0101 | D31: 1-1. 소방전기공사 | F31: 식 | G31: 1 | H31: =내역서!I55 -> 0 | I31: =G31*H31 -> 0 | K31: =내역서!L55 -> 0 | L31: =G31*K31 -> 0 | M31: =내역서!N55 -> 0 | N31: =G31*M31 -> 0 | O31: =IF((H31+K31+M31)=0, "", (H31+K31+M31)) | P31: =SUM(I31,L31,N31) -> 0
B32: 0102 | D32: 1-2. 펌프 전원 공사 | F32: 식 | G32: 1 | H32: =내역서!I81 -> 0 | I32: =G32*H32 -> 0 | K32: =내역서!L81 -> 0 | L32: =G32*K32 -> 0 | M32: =내역서!N81 -> 0 | N32: =G32*M32 -> 0 | O32: =IF((H32+K32+M32)=0, "", (H32+K32+M32)) | P32: =SUM(I32,L32,N32) -> 0
B55: 01 | C55: Total | D55: ( 합 계 ) | I55: =TRUNC(SUM(I30:I54)) -> 0 | L55: =TRUNC(SUM(L30:L54)) -> 0 | N55: =TRUNC(SUM(N30:N54)) -> 0 | O55: =IF((H55+K55+M55)=0, "", (H55+K55+M55)) | P55: =TRUNC(SUM(P30:P54)) -> 0
B56: 공종줄 | D56: 2.소방기계공사
B57: 0201 | D57: 2-1. 간이스프링클러설비공사 | F57: 식 | G57: 1 | H57: =내역서!I181 -> 0 | I57: =G57*H57 -> 0 | K57: =내역서!L181 -> 0 | L57: =G57*K57 -> 0 | M57: =내역서!N181 -> 0 | N57: =G57*M57 -> 0 | O57: =IF((H57+K57+M57)=0, "", (H57+K57+M57)) | P57: =SUM(I57,L57,N57) -> 0
B81: 02 | C81: Total | D81: ( 합 계 ) | I81: =TRUNC(SUM(I56:I80)) -> 0 | L81: =TRUNC(SUM(L56:L80)) -> 0 | N81: =TRUNC(SUM(N56:N80)) -> 0 | O81: =IF((H81+K81+M81)=0, "", (H81+K81+M81)) | P81: =TRUNC(SUM(P56:P80)) -> 0

Sheet 내역서
A1: 총줄수-> | B1: 185 | D1: [ 친환경선박 연구지원 인프라 구축사업 2단계 연구동 스프링클러설비공사 ] | W1: 노임 계산 정보 | AA1: 부속재 및 손료
A2: 번호 | B2: 공종코드 | C2: 코드 | D2: 명 칭 | E2: 규 격 | F2: 단위 | G2: 수량 | H2: 재료비 | J2: 노무비 | M2: 경비 | P2: 계 | Q2: 비고 | W2: 노임계 | X2: 전체(%) | Y2: 공종별(%) | Z2: 노임 소수 | AA2: CD배관재 | AB2: 일반배관재 | AC2: 소모재 | AD2: 자재계 | AE2: 노임계
H3: 단가 | I3: 금액 | J3: 수량 | K3: 단가 | L3: 금액 | M3: 단가 | N3: 금액 | O3: 단가 | AD3: =IF(옵션!$C$11 =0, "1", 옵션!$C$11) -> 1000 | AE3: =IF(옵션!$C$12 =0, "1", 옵션!$C$12) -> 1000
B4: 공종줄 | D4: 1.소방전기공사::1-1.소방전기공사
A5: 59750337001 | B5: 0101 | C5: 3913170610034832 | D5: 강제전선관 | E5: 아연도 16 mm | F5: M | G5: 52 | I5: =TRUNC(G5*H5) -> 0 | J5: 47 | K5: =합산자재!I4 -> 0 | L5: =TRUNC(G5*K5) -> 0 | M5: =합산자재!J4 -> 0 | N5: =TRUNC(G5*M5) -> 0 | O5: =IF((H5+K5+M5)=0, "", (H5+K5+M5)) | P5: =SUM(I5,L5,N5) -> 0 | AB5: =I5 -> 0 | AC5: =G5*H5 -> 0
A6: 59750337002 | B6: 0101 | C6: 3913170610034833 | D6: 강제전선관 | E6: 아연도 22 mm | F6: M | G6: 55 | I6: =TRUNC(G6*H6) -> 0 | J6: 50 | K6: =합산자재!I5 -> 0 | L6: =TRUNC(G6*K6) -> 0 | M6: =합산자재!J5 -> 0 | N6: =TRUNC(G6*M6) -> 0 | O6: =IF((H6+K6+M6)=0, "", (H6+K6+M6)) | P6: =SUM(I6,L6,N6) -> 0 | AB6: =I6 -> 0 | AC6: =G6*H6 -> 0
A7: 59750337003 | B7: 0101 | C7: 3913170610034834 | D7: 강제전선관 | E7: 아연도 28 mm | F7: M | G7: 23 | I7: =TRUNC(G7*H7) -> 0 | J7: 21 | K7: =합산자재!I6 -> 0 | L7: =TRUNC(G7*K7) -> 0 | M7: =합산자재!J6 -> 0 | N7: =TRUNC(G7*M7) -> 0 | O7: =IF((H7+K7+M7)=0, "", (H7+K7+M7)) | P7: =SUM(I7,L7,N7) -> 0 | AB7: =I7 -> 0 | AC7: =G7*H7 -> 0
A8: 59753017003 | B8: 0101 | C8: 3913170620174410 | D8: 1종금속제가요전선관 | E8: 16 mm 일반-비방수 | F8: M | G8: 198 | I8: =TRUNC(G8*H8) -> 0 | J8: 180 | K8: =합산자재!I10 -> 0 | L8: =TRUNC(G8*K8) -> 0 | M8: =합산자재!J10 -> 0 | N8: =TRUNC(G8*M8) -> 0 | O8: =IF((H8+K8+M8)=0, "", (H8+K8+M8)) | P8: =SUM(I8,L8,N8) -> 0 | AC8: =G8*H8 -> 0
A9: 59753017004 | B9: 0101 | C9: 3913170620174411 | D9: 1종금속제가요전선관 | E9: 22 mm 일반-비방수 | F9: M | G9: 109 | I9: =TRUNC(G9*H9) -> 0 | J9: 99 | K9: =합산자재!I11 -> 0 | L9: =TRUNC(G9*K9) -> 0 | M9: =합산자재!J11 -> 0 | N9: =TRUNC(G9*M9) -> 0 | O9: =IF((H9+K9+M9)=0, "", (H9+K9+M9)) | P9: =SUM(I9,L9,N9) -> 0 | AC9: =G9*H9 -> 0
A10: 59753017005 | B10: 0101 | C10: 3913170620174412 | D10: 1종금속제가요전선관 | E10: 28 mm 일반-비방수 | F10: M | G10: 25 | I10: =TRUNC(G10*H10) -> 0 | J10: 23 | K10: =합산자재!I12 -> 0 | L10: =TRUNC(G10*K10) -> 0 | M10: =합산자재!J12 -> 0 | N10: =TRUNC(G10*M10) -> 0 | O10: =IF((H10+K10+M10)=0, "", (H10+K10+M10)) | P10: =SUM(I10,L10,N10) -> 0 | AC10: =G10*H10 -> 0
A11: 59753017043 | B11: 0101 | C11: 3913170620174434 | D11: 1종금속제가요전선관 | E11: 커넥터, 16 mm 일반-비방수 | F11: 개 | G11: 20 | I11: =TRUNC(G11*H11) -> 0 | J11: 20 | K11: =합산자재!I13 -> 0 | L11: =TRUNC(G11*K11) -> 0 | M11: =합산자재!J13 -> 0 | N11: =TRUNC(G11*M11) -> 0 | O11: =IF((H11+K11+M11)=0, "", (H11+K11+M11)) | P11: =SUM(I11,L11,N11) -> 0
A12: 59753017044 | B12: 0101 | C12: 3913170620174435 | D12: 1종금속제가요전선관 | E12: 커넥터, 22 mm 일반-비방수 | F12: 개 | G12: 10 | I12: =TRUNC(G12*H12) -> 0 | J12: 10 | K12: =합산자재!I14 -> 0 | L12: =TRUNC(G12*K12) -> 0 | M12: =합산자재!J14 -> 0 | N12: =TRUNC(G12*M12) -> 0 | O12: =IF((H12+K12+M12)=0, "", (H12+K12+M12)) | P12: =SUM(I12,L12,N12) -> 0
A13: 59753017045 | B13: 0101 | C13: 3913170620174436 | D13: 1종금속제가요전선관 | E13: 커넥터, 28 mm 일반-비방수 | F13: 개 | G13: 2 | I13: =TRUNC(G13*H13) -> 0 | J13: 2 | K13: =합산자재!I15 -> 0 | L13: =TRUNC(G13*K13) -> 0 | M13: =합산자재!J15 -> 0 | N13: =TRUNC(G13*M13) -> 0 | O13: =IF((H13+K13+M13)=0, "", (H13+K13+M13)) | P13: =SUM(I13,L13,N13) -> 0
A14: 59753767011 | B14: 0101 | C14: 3912130810035750 | D14: 아우트렛박스 | E14: 8각 54㎜ | F14: 개 | G14: 6 | I14: =TRUNC(G14*H14) -> 0 | J14: 6 | K14: =합산자재!I17 -> 0 | L14: =TRUNC(G14*K14) -> 0 | M14: =합산자재!J17 -> 0 | N14: =TRUNC(G14*M14) -> 0 | O14: =IF((H14+K14+M14)=0, "", (H14+K14+M14)) | P14: =SUM(I14,L14,N14) -> 0
A15: 59753767201 | B15: 0101 | C15: 3912130820174710 | D15: 아우트렛박스 커버 | E15: 커버, 8각, 평형 | F15: 개 | G15: 6 | I15: =TRUNC(G15*H15) -> 0 | J15: 6 | K15: =합산자재!I18 -> 0 | L15: =TRUNC(G15*K15) -> 0 | M15: =합산자재!J18 -> 0 | N15: =TRUNC(G15*M15) -> 0 | O15: =IF((H15+K15+M15)=0, "", (H15+K15+M15)) | P15: =SUM(I15,L15,N15) -> 0
A16: 59753857071 | B16: 0101 | C16: 3912130310035800 | D16: 풀박스 | E16: 200×200×150 | F16: 개 | G16: 5 | I16: =TRUNC(G16*H16) -> 0 | J16: 5 | K16: =합산자재!I19 -> 0 | L16: =TRUNC(G16*K16) -> 0 | M16: =합산자재!J19 -> 0 | N16: =TRUNC(G16*M16) -> 0 | O16: =IF((H16+K16+M16)=0, "", (H16+K16+M16)) | P16: =SUM(I16,L16,N16) -> 0
A17: 59753857131 | B17: 0101 | C17: 3912130320174767 | D17: 풀박스 | E17: 300×300×200 | F17: 개 | G17: 1 | I17: =TRUNC(G17*H17) -> 0 | J17: 1 | K17: =합산자재!I20 -> 0 | L17: =TRUNC(G17*K17) -> 0 | M17: =합산자재!J20 -> 0 | N17: =TRUNC(G17*M17) -> 0 | O17: =IF((H17+K17+M17)=0, "", (H17+K17+M17)) | P17: =SUM(I17,L17,N17) -> 0
A18: MM481669624 | B18: 0101 | C18: 2612162922076727 | D18: 450/750V 내열비닐절연전선 | E18: HFIX 1.78mm(2.5㎟) | F18: M | G18: 1368 | I18: =TRUNC(G18*H18) -> 0 | J18: 1244 | K18: =합산자재!I23 -> 0 | L18: =TRUNC(G18*K18) -> 0 | M18: =합산자재!J23 -> 0 | N18: =TRUNC(G18*M18) -> 0 | O18: =IF((H18+K18+M18)=0, "", (H18+K18+M18)) | P18: =SUM(I18,L18,N18) -> 0 | AC18: =G18*H18 -> 0
A19: E1450358025 | B19: 0101 | C19: 2612160320684224 | D19: 난연제어케이블 | E19: F-CVV 2Cx1.5㎟ | F19: M | G19: 106 | I19: =TRUNC(G19*H19) -> 0 | J19: 101 | K19: =합산자재!I30 -> 0 | L19: =TRUNC(G19*K19) -> 0 | M19: =합산자재!J30 -> 0 | N19: =TRUNC(G19*M19) -> 0 | O19: =IF((H19+K19+M19)=0, "", (H19+K19+M19)) | P19: =SUM(I19,L19,N19) -> 0 | AC19: =G19*H19 -> 0
A20: 63500207021 | B20: 0101 | C20: 4619150520935779 | D20: 전자싸이렌 | E20: DC 24V | F20: 개 | G20: 6 | I20: =TRUNC(G20*H20) -> 0 | J20: 6 | K20: =합산자재!I31 -> 0 | L20: =TRUNC(G20*K20) -> 0 | M20: =합산자재!J31 -> 0 | N20: =TRUNC(G20*M20) -> 0 | O20: =IF((H20+K20+M20)=0, "", (H20+K20+M20)) | P20: =SUM(I20,L20,N20) -> 0
A21: 63500408156 | B21: 0101 | C21: 4618250620192674 | D21: 중계기 | E21: 2/2 감시/제어 | F21: 대 | G21: 4 | I21: =TRUNC(G21*H21) -> 0 | J21: 4 | K21: =합산자재!I32 -> 0 | L21: =TRUNC(G21*K21) -> 0 | M21: =합산자재!J32 -> 0 | N21: =TRUNC(G21*M21) -> 0 | O21: =IF((H21+K21+M21)=0, "", (H21+K21+M21)) | P21: =SUM(I21,L21,N21) -> 0
A22: 63500207101 | B22: 0101 | C22: 4322330621650738 | D22: 중계기수용함 | E22: 1 개용 | F22: 개 | G22: 4 | I22: =TRUNC(G22*H22) -> 0 | J22: 4 | K22: =합산자재!I33 -> 0 | L22: =TRUNC(G22*K22) -> 0 | M22: =합산자재!J33 -> 0 | N22: =TRUNC(G22*M22) -> 0 | O22: =IF((H22+K22+M22)=0, "", (H22+K22+M22)) | P22: =SUM(I22,L22,N22) -> 0
A23: MM935773122 | B23: 0101 | C23: InMastDBNonCode | D23: 저수위경보장치 | E23: 오뚜기식 | F23: 개 | G23: 1 | I23: =TRUNC(G23*H23) -> 0 | J23: 1 | K23: =합산자재!I119 -> 0 | L23: =TRUNC(G23*K23) -> 0 | M23: =합산자재!J119 -> 0 | N23: =TRUNC(G23*M23) -> 0 | O23: =IF((H23+K23+M23)=0, "", (H23+K23+M23)) | P23: =SUM(I23,L23,N23) -> 0
A24: 56959000025 | B24: 0101 | C24: E56959000025 | D24: 전선관 지지 | E24: 바닥배관 | F24: 개소 | G24: 12 | I24: =TRUNC(G24*H24) -> 0 | J24: 12 | L24: =TRUNC(G24*K24) -> 0 | N24: =TRUNC(G24*M24) -> 0 | O24: =IF((H24+K24+M24)=0, "", (H24+K24+M24)) | P24: =SUM(I24,L24,N24) -> 0 | Q24: 제 2호
A25: A0500000000 | B25: 0101 | C25: RENT000000000002 | D25: [ 배관 부속재 ] | E25: 전선관의 15 % | F25: 식 | G25: 1 | H25: =TRUNC(AB25*옵션!$B$31/100) -> 0 | I25: =TRUNC(G25*H25) -> 0 | J25: 1 | L25: =TRUNC(G25*K25) -> 0 | N25: =TRUNC(G25*M25) -> 0 | O25: =IF((H25+K25+M25)=0, "", (H25+K25+M25)) | P25: =SUM(I25,L25,N25) -> 0 | AB25: =TRUNC(SUM(AB4:AB24)) -> 0
A26: A0100000000 | B26: 0101 | C26: RENT000000000003 | D26: [ 소모 잡자재 ] | E26: 전선, 전선관의 2 % | F26: 식 | G26: 1 | H26: =IF(TRUNC((AD26+AC26)/$AD$3)*$AD$3-AD26 <0, AC26, TRUNC((AD26+AC26)/$AD$3)*$AD$3-AD26) -> 0 | I26: =H26 -> 0 | J26: 1 | L26: =TRUNC(G26*K26) -> 0 | N26: =TRUNC(G26*M26) -> 0 | O26: =IF((H26+K26+M26)=0, "", (H26+K26+M26)) | P26: =SUM(I26,L26,N26) -> 0 | AC26: =TRUNC(TRUNC(SUM(AC4:AC25))*옵션!$B$33/100) -> 0 | AD26: =TRUNC(SUM(I4:I25))+TRUNC(SUM(N4:N25)) -> 0
A27: 56900017016 | B27: 0101 | C27: L001010101000075 | D27: 노 무 비 | E27: 내선전공 | F27: 인 | G27: 47 | H27: =합산자재!H163 -> 0 | I27: =TRUNC(G27*H27) -> 0 | J27: =#REF! -> #REF! | L27: =TRUNC(G27*K27) -> 0 | M27: =합산자재!J163 -> 0 | N27: =TRUNC(G27*M27) -> 0 | O27: =IF((H27+K27+M27)=0, "", (H27+K27+M27)) | P27: =SUM(I27,L27,N27) -> 0 | AE27: =L27 -> 0
A28: 56900017076 | B28: 0101 | C28: L001010101000078 | D28: 노 무 비 | E28: 저압케이블전공 | F28: 인 | G28: 1 | H28: =합산자재!H164 -> 0 | I28: =TRUNC(G28*H28) -> 0 | J28: =#REF! -> #REF! | L28: =TRUNC(G28*K28) -> 0 | M28: =합산자재!J164 -> 0 | N28: =TRUNC(G28*M28) -> 0 | O28: =IF((H28+K28+M28)=0, "", (H28+K28+M28)) | P28: =SUM(I28,L28,N28) -> 0 | AE28: =L28 -> 0
A29: A0300000000 | B29: 0101 | C29: RENT000000000006 | D29: [ 공 구 손 료 ] | E29: 노무비의 3 % | F29: 식 | G29: 1 | H29: =IF(TRUNC((AD30+AC30)/$AE$3)*$AE$3-AD30 <0, AC30, TRUNC((AD30+AC30)/$AE$3)*$AE$3-AD30) -> 0 | I29: =H29 -> 0 | J29: 1 | L29: =TRUNC(G29*K29) -> 0 | N29: =TRUNC(G29*M29) -> 0 | O29: =IF((H29+K29+M29)=0, "", (H29+K29+M29)) | P29: =SUM(I29,L29,N29) -> 0
AC30: =TRUNC(AE30*옵션!$B$36/100) -> 0 | AD30: =TRUNC(SUM(L4:L28)) -> 0 | AE30: =TRUNC(SUM(AE4:AE29)) -> 0
B55: 합계줄 | D55: ( 합 계 ) | I55: =TRUNC(SUM(I4:I54)) -> 0 | L55: =TRUNC(SUM(L4:L54)) -> 0 | N55: =TRUNC(SUM(N4:N54)) -> 0 | O55: =IF((H55+K55+M55)=0, "", (H55+K55+M55)) | P55: =TRUNC(SUM(P4:P54)) -> 0
B56: 공종줄 | D56: 1.소방전기공사::1-2.펌프 전원 공사
A57: 59750337004 | B57: 0102 | C57: 3913170610034835 | D57: 강제전선관 | E57: 아연도 36 mm | F57: M | G57: 8 | I57: =TRUNC(G57*H57) -> 0 | J57: 7 | K57: =합산자재!I7 -> 0 | L57: =TRUNC(G57*K57) -> 0 | M57: =합산자재!J7 -> 0 | N57: =TRUNC(G57*M57) -> 0 | O57: =IF((H57+K57+M57)=0, "", (H57+K57+M57)) | P57: =SUM(I57,L57,N57) -> 0 | AB57: =I57 -> 0 | AC57: =G57*H57 -> 0
A58: 59750337005 | B58: 0102 | C58: 3913170610034836 | D58: 강제전선관 | E58: 아연도 42 mm | F58: M | G58: 7 | I58: =TRUNC(G58*H58) -> 0 | J58: 6 | K58: =합산자재!I8 -> 0 | L58: =TRUNC(G58*K58) -> 0 | M58: =합산자재!J8 -> 0 | N58: =TRUNC(G58*M58) -> 0 | O58: =IF((H58+K58+M58)=0, "", (H58+K58+M58)) | P58: =SUM(I58,L58,N58) -> 0 | AB58: =I58 -> 0 | AC58: =G58*H58 -> 0
A59: 59750337006 | B59: 0102 | C59: 3913170610034837 | D59: 강제전선관 | E59: 아연도 54 mm | F59: M | G59: 45 | I59: =TRUNC(G59*H59) -> 0 | J59: 41 | K59: =합산자재!I9 -> 0 | L59: =TRUNC(G59*K59) -> 0 | M59: =합산자재!J9 -> 0 | N59: =TRUNC(G59*M59) -> 0 | O59: =IF((H59+K59+M59)=0, "", (H59+K59+M59)) | P59: =SUM(I59,L59,N59) -> 0 | AB59: =I59 -> 0 | AC59: =G59*H59 -> 0
A60: 59753857131 | B60: 0102 | C60: 3912130320174767 | D60: 풀박스 | E60: 300×300×200 | F60: 개 | G60: 2 | I60: =TRUNC(G60*H60) -> 0 | J60: 2 | K60: =합산자재!I20 -> 0 | L60: =TRUNC(G60*K60) -> 0 | M60: =합산자재!J20 -> 0 | N60: =TRUNC(G60*M60) -> 0 | O60: =IF((H60+K60+M60)=0, "", (H60+K60+M60)) | P60: =SUM(I60,L60,N60) -> 0
A61: E1450927203 | B61: 0102 | C61: 2612152420683697 | D61: 접지용비닐절연전선(F-GV) | E61: 6㎟ | F61: M | G61: 9 | I61: =TRUNC(G61*H61) -> 0 | J61: 8 | K61: =합산자재!I24 -> 0 | L61: =TRUNC(G61*K61) -> 0 | M61: =합산자재!J24 -> 0 | N61: =TRUNC(G61*M61) -> 0 | O61: =IF((H61+K61+M61)=0, "", (H61+K61+M61)) | P61: =SUM(I61,L61,N61) -> 0 | AC61: =G61*H61 -> 0
A62: E1450927204 | B62: 0102 | C62: 2612152420683698 | D62: 접지용비닐절연전선(F-GV) | E62: 10㎟ | F62: M | G62: 8 | I62: =TRUNC(G62*H62) -> 0 | J62: 7 | K62: =합산자재!I25 -> 0 | L62: =TRUNC(G62*K62) -> 0 | M62: =합산자재!J25 -> 0 | N62: =TRUNC(G62*M62) -> 0 | O62: =IF((H62+K62+M62)=0, "", (H62+K62+M62)) | P62: =SUM(I62,L62,N62) -> 0 | AC62: =G62*H62 -> 0
A63: E1450927205 | B63: 0102 | C63: 2612152420683699 | D63: 접지용비닐절연전선(F-GV) | E63: 16㎟ | F63: M | G63: 46 | I63: =TRUNC(G63*H63) -> 0 | J63: 42 | K63: =합산자재!I26 -> 0 | L63: =TRUNC(G63*K63) -> 0 | M63: =합산자재!J26 -> 0 | N63: =TRUNC(G63*M63) -> 0 | O63: =IF((H63+K63+M63)=0, "", (H63+K63+M63)) | P63: =SUM(I63,L63,N63) -> 0 | AC63: =G63*H63 -> 0
A64: E1450137303 | B64: 0102 | C64: 2612164020684033 | D64: 소방용내화전선(F-FR-8) | E64: 3C×6㎟ | F64: M | G64: 8 | I64: =TRUNC(G64*H64) -> 0 | J64: 8 | K64: =합산자재!I27 -> 0 | L64: =TRUNC(G64*K64) -> 0 | M64: =합산자재!J27 -> 0 | N64: =TRUNC(G64*M64) -> 0 | O64: =IF((H64+K64+M64)=0, "", (H64+K64+M64)) | P64: =SUM(I64,L64,N64) -> 0 | AC64: =G64*H64 -> 0
...

Sheet 합산자재
B1: 185 | C1: [ 친환경대체연료 연구동 간이스프링클러설비 설 ] - 합산자재목록
A2: 번호 | B2: … | C2: 코드 | D2: 명 칭 | E2: 규 격 | F2: 단위 | G2: 수량 | H2: 재료비 | I2: 노무비 | J2: 경비 | K2: 지급비 | L2: 계 | M2: 비고
B4: 59750337001 | C4: 3913170610034832 | D4: 강제전선관 | E4: 아연도 16 mm | F4: M | G4: 52 | H4: =ROUNDDOWN(#REF!*옵션!$D$11, 0) -> #REF! | L4: =SUM(H4,I4,J4) -> #REF!
B5: 59750337002 | C5: 3913170610034833 | D5: 강제전선관 | E5: 아연도 22 mm | F5: M | G5: 55 | H5: =ROUNDDOWN(#REF!*옵션!$D$11, 0) -> #REF! | L5: =SUM(H5,I5,J5) -> #REF!
B6: 59750337003 | C6: 3913170610034834 | D6: 강제전선관 | E6: 아연도 28 mm | F6: M | G6: 23 | H6: =ROUNDDOWN(#REF!*옵션!$D$11, 0) -> #REF! | L6: =SUM(H6,I6,J6) -> #REF!
B7: 59750337004 | C7: 3913170610034835 | D7: 강제전선관 | E7: 아연도 36 mm | F7: M | G7: 8 | H7: =ROUNDDOWN(#REF!*옵션!$D$11, 0) -> #REF! | L7: =SUM(H7,I7,J7) -> #REF!
B8: 59750337005 | C8: 3913170610034836 | D8: 강제전선관 | E8: 아연도 42 mm | F8: M | G8: 7 | H8: =ROUNDDOWN(#REF!*옵션!$D$11, 0) -> #REF! | L8: =SUM(H8,I8,J8) -> #REF!
B9: 59750337006 | C9: 3913170610034837 | D9: 강제전선관 | E9: 아연도 54 mm | F9: M | G9: 45 | H9: =ROUNDDOWN(#REF!*옵션!$D$11, 0) -> #REF! | L9: =SUM(H9,I9,J9) -> #REF!
B10: 59753017003 | C10: 3913170620174410 | D10: 1종금속제가요전선관 | E10: 16 mm 일반-비방수 | F10: M | G10: 198 | H10: =ROUNDDOWN(#REF!*옵션!$D$11, 0) -> #REF! | L10: =SUM(H10,I10,J10) -> #REF!
B11: 59753017004 | C11: 3913170620174411 | D11: 1종금속제가요전선관 | E11: 22 mm 일반-비방수 | F11: M | G11: 102 | H11: =ROUNDDOWN(#REF!*옵션!$D$11, 0) -> #REF! | L11: =SUM(H11,I11,J11) -> #REF!
B12: 59753017005 | C12: 3913170620174412 | D12: 1종금속제가요전선관 | E12: 28 mm 일반-비방수 | F12: M | G12: 25 | H12: =ROUNDDOWN(#REF!*옵션!$D$11, 0) -> #REF! | L12: =SUM(H12,I12,J12) -> #REF!
B13: 59753017043 | C13: 3913170620174434 | D13: 1종금속제가요전선관 | E13: 커넥터, 16 mm 일반-비방수 | F13: 개 | G13: 20 | H13: =ROUNDDOWN(#REF!*옵션!$D$11, 0) -> #REF! | L13: =SUM(H13,I13,J13) -> #REF!
B14: 59753017044 | C14: 3913170620174435 | D14: 1종금속제가요전선관 | E14: 커넥터, 22 mm 일반-비방수 | F14: 개 | G14: 10 | H14: =ROUNDDOWN(#REF!*옵션!$D$11, 0) -> #REF! | L14: =SUM(H14,I14,J14) -> #REF!
B15: 59753017045 | C15: 3913170620174436 | D15: 1종금속제가요전선관 | E15: 커넥터, 28 mm 일반-비방수 | F15: 개 | G15: 2 | H15: =ROUNDDOWN(#REF!*옵션!$D$11, 0) -> #REF! | L15: =SUM(H15,I15,J15) -> #REF!
... B131: MM684950483 | C131: 391115ZZ701Z0005 | D131: 강관 용접 | E131: 80A | F131: 개소 | G131: 177 | H131: =ROUNDDOWN(#REF!*옵션!$D$11, 0) -> #REF! | L131: =SUM(H131,I131,J131) -> #REF!
B132: MM825140331 | C132: 391115ZZ701Z0006 | D132: 강관전기아크용접 | E132: D100 | F132: 개소 | G132: 4 | H132: =ROUNDDOWN(#REF!*옵션!$D$11, 0) -> #REF! | I132: 39907 | L132: =SUM(H132,I132,J132) -> #REF!
B133: MM841358263 | C133: 391115ZZ701Z0007 | D133: 강관전기아크용접 | E133: D150 | F133: 개소 | G133: 38 | H133: =ROUNDDOWN(#REF!*옵션!$D$11, 0) -> #REF! | I133: 56711 | L133: =SUM(H133,I133,J133) -> #REF!
B134: MM825140316 | C134: 391115ZZ701Z0008 | D134: 강관전기아크용접 | E134: D40 | F134: 개소 | G134: 19 | H134: =ROUNDDOWN(#REF!*옵션!$D$11, 0) -> #REF! | I134: 18378 | L134: =SUM(H134,I134,J134) -> #REF!
B135: MM825140326 | C135: 391115ZZ701Z0009 | D135: 강관전기아크용접 | E135: D65 | F135: 개소 | G135: 6 | H135: =ROUNDDOWN(#REF!*옵션!$D$11, 0) -> #REF! | I135: 27567 | L135: =SUM(H135,I135,J135) -> #REF!
B136: MM882894212 | C136: 391115ZZ701Z0010 | D136: 본드(고무발포용) | F136: kg | G136: 16.524 | H136: =ROUNDDOWN(#REF!*옵션!$D$11, 0) -> #REF! | L136: =SUM(H136,I136,J136) -> #REF!
B137: MM825140318 | C137: 391115ZZ701Z0011 | D137: 볼트+너트 | E137: M16x55L | F137: EA | G137: 76 | H137: =ROUNDDOWN(#REF!*옵션!$D$11, 0) -> #REF! | L137: =SUM(H137,I137,J137) -> #REF!
B138: MM825140328 | C138: 391115ZZ701Z0012 | D138: 볼트+너트 | E138: M16x60L | F138: EA | G138: 40 | H138: =ROUNDDOWN(#REF!*옵션!$D$11, 0) -> #REF! | L138: =SUM(H138,I138,J138) -> #REF!
B139: MM841358260 | C139: 391115ZZ701Z0013 | D139: 볼트+너트 | E139: M20x70L | F139: EA | G139: 152 | H139: =ROUNDDOWN(#REF!*옵션!$D$11, 0) -> #REF! | L139: =SUM(H139,I139,J139) -> #REF!
B140: MM882894213 | C140: 391115ZZ701Z0014 | D140: 슈퍼매직 303 | E140: 0.2t, 100mm*15m | F140: M | G140: 563.99 | H140: =ROUNDDOWN(#REF!*옵션!$D$11, 0) -> #REF! | L140: =SUM(H140,I140,J140) -> #REF!
B141: MM684889554 | C141: 391115ZZ701Z0015 | D141: 스트롱앵커 | E141: 스트롱앵커, M10, 9.5mm | F141: 개 | G141: 3238 | H141: =ROUNDDOWN(#REF!*옵션!$D$11, 0) -> #REF! | L141: =SUM(H141,I141,J141) -> #REF!
B142: MM687916318 | C142: 391115ZZ701Z0016 | D142: 용접봉 | E142: 연강용피복아크용접봉, Φ3.2mm | F142: KG | G142: 193.52 | H142: =ROUNDDOWN(#REF!*옵션!$D$11, 0) -> #REF! | L142: =SUM(H142,I142,J142) -> #REF!
B143: MM684889552 | C143: 391115ZZ701Z0017 | D143: 지지행어 | E143: 파이프행어(일반), Φ100mm | F143: 개 | G143: 30 | H143: =ROUNDDOWN(#REF!*옵션!$D$11, 0) -> #REF! | L143: =SUM(H143,I143,J143) -> #REF!
B144: MM019514322 | C144: 391115ZZ701Z0018 | D144: 지지행어 | E144: 파이프행어(일반), Φ125mm | F144: 개 | G144: 12 | H144: =ROUNDDOWN(#REF!*옵션!$D$11, 0) -> #REF! | L144: =SUM(H144,I144,J144) -> #REF!
B145: MM019514323 | C145: 391115ZZ701Z0019 | D145: 지지행어 | E145: 파이프행어(일반), Φ150mm | F145: 개 | G145: 49 | H145: =ROUNDDOWN(#REF!*옵션!$D$11, 0) -> #REF! | L145: =SUM(H145,I145,J145) -> #REF!
B146: MM696808396 | C146: 391115ZZ701Z0020 | D146: 지지행어 | E146: 파이프행어(일반), Φ25mm | F146: 개 | G146: 2996 | H146: =ROUNDDOWN(#REF!*옵션!$D$11, 0) -> #REF! | L146: =SUM(H146,I146,J146) -> #REF!
B147: MM696808397 | C147: 391115ZZ701Z0021 | D147: 지지행어 | E147: 파이프행어(일반), Φ32mm | F147: 개 | G147: 61 | H147: =ROUNDDOWN(#REF!*옵션!$D$11, 0) -> #REF! | L147: =SUM(H147,I147,J147) -> #REF!
B148: MM696808398 | C148: 391115ZZ701Z0022 | D148: 지지행어 | E148: 파이프행어(일반), Φ40mm | F148: 개 | G148: 12 | H148: =ROUNDDOWN(#REF!*옵션!$D$11, 0) -> #REF! | L148: =SUM(H148,I148,J148) -> #REF!
... B161: MM684889553 | C161: 391115ZZ701Z0040 | D161: 행어볼트 | E161: 행어볼트, 아연도금, M10*1000 | F161: 개 | G161: 3238 | H161: =ROUNDDOWN(#REF!*옵션!$D$11, 0) -> #REF! | L161: =SUM(H161,I161,J161) -> #REF!
B162: CA565826062 | C162: ECA565826062 | D162: 코어드릴 | E162: 15.24cm | F162: 시간 | G162: 60.32 | H162: =#REF! -> #REF! | I162: =#REF! -> #REF! | J162: =#REF! -> #REF! | L162: =SUM(H162,I162,J162) -> #REF! | M162: 종합적산701
B163: 56900017016 | C163: L001010101000075 | D163: 노 무 비 | E163: 내선전공 | F163: 인 | G163: 70.24 | I163: =ROUNDDOWN(#REF!, 0) -> #REF! | L163: =SUM(H163,I163,J163) -> #REF!
B164: 56900017076 | C164: L001010101000078 | D164: 노 무 비 | E164: 저압케이블전공 | F164: 인 | G164: 4 | I164: =ROUNDDOWN(#REF!, 0) -> #REF! | L164: =SUM(H164,I164,J164) -> #REF!
B165: 56900017007 | C165: L001010101000084 | D165: 노 무 비 | E165: 계장공 | F165: 인 | G165: 1.32 | I165: =ROUNDDOWN(#REF!, 0) -> #REF! | L165: =SUM(H165,I165,J165) -> #REF!
B166: 56900017031 | C166: L001010101000081 | D166: 노 무 비 | E166: 배전전공 | F166: 인 | G166: 0.1456 | I166: =ROUNDDOWN(#REF!, 0) -> #REF! | L166: =SUM(H166,I166,J166) -> #REF!
B167: 56900017035 | C167: L001010501000116 | D167: 노 무 비 | E167: 변전전공 | F167: 인 | G167: 0.764 | I167: =ROUNDDOWN(#REF!, 0) -> #REF! | L167: =SUM(H167,I167,J167) -> #REF!
B168: 56900017041 | C168: L001010101000002 | D168: 노 무 비 | E168: 보통인부 | F168: 인 | G168: 121.872 | I168: =ROUNDDOWN(#REF!, 0) -> #REF! | L168: =SUM(H168,I168,J168) -> #REF!
...

Sheet 옵션
B1: 재료비 | C1: 노무비 | D1: 경비 | F1: 계
A2: 총 급 액 | B2: =총괄표!I29 -> 0 | C2: =총괄표!L29 -> 0 | D2: =총괄표!N29 -> 0 | F2: =SUM(B2,C2,D2) -> 0
A3: 관급 자재비 | F3: =SUM(B3,C3,D3) -> 0 | H3: 금액조정이 안되나요?
H6: 이지테크에서 변환할 때 2번 옵션을 지정하여 다시 해보세요
H9: 시트를 삭제할 때 에러가 뜨면 1번 옵션으로 하면 됩니다.
B10: 적용율(%) | C10: 끝자리 | D10: 적용율(%)/100 | E10: 일위대가소수
A11: 전체자재 적용율(%)(공종/일위대가) | B11: 100 | C11: 1000 | D11: =$B$11/100 -> 1
A12: 전체노임 적용율(%)(공종) | B12: 100 | C12: 1000 | D12: =$B$12/100 -> 1 | E12: 2 | H12: 2번 옵션으로 변환했을 때에는 결과값이 다를 수 있습니다.
A13: 전체노임 적용율(%)(일위대가) | B13: 100 | C13: 1 | D13: =$B$13/100 -> 1 | E13: 5
A20: *(그룹별 자재 단가 추가 할증)* | B20: 적용율(%) | D20: 적용율(%)/100
A21: Cable(CAB) 할증(%) | B21: =B11 -> 100 | D21: =$B$21/100 -> 1
A22: Wire (WIR) 할증(%) | B22: =B11 -> 100 | D22: =$B$22/100 -> 1
A23: Pipe (PIP) 할증(%) | B23: =B11 -> 100 | D23: =$B$23/100 -> 1
A24: 제 4그룹 할증(%) | B24: =B11 -> 100 | D24: =$B$24/100 -> 1
A25: 제 5그룹 할증(%) | B25: =B11 -> 100 | D25: =$B$25/100 -> 1
A30: *(그룹별 노임 추가 할증)* | B30: 적용율(%) | C30: 자동부속재(전기) | D30: 자동부속재(통신)
A31: 배관부속재(%) | B31: 15 | C31: 15 | D31: 20
A32: CD관부속재(%) | B32: 40 | C32: 40 | D32: 40
A33: 소모잡자재(%) | B33: 2 | H33: 본 파일은 이지테크에서 2번 옵션으로 만들었습니다.
A34: 방폭할증(%)
A35: 고소할증(%) | B35: 2
A36: 공구손료(%) | B36: 3
A40: *(공종별 노임 적용율(%))* | B40: 적용율(%) | C40: 소수자릿수
A41: 1-1. 소방전기공사 | B41: 100 | C41: 0
A42: 1-2. 펌프 전원 공사 | B42: 100 | C42: 0
A43: 2-1. 간이스프링클러설비공사 | B43: 100 | C43: 0

Sheet 사용설명
B1: ** 반드시 다음 사항을 숙지하신 다음 수정 작업을 하십시오 **
A2: 1. | B2: 속성이 숫자인 셀을 삭제할 때는 반드시 'Delete' 키를 사용하십시오.
B3: **주의:'Space Bar' 로 지웠을 때는 '#Value' Error가 발생됩니다.
A4: 2. | B4: 일위대가(을지)는 소수점 처리 때문에 셀 속성을 '일반'으로 하였습니다.(소수점 능동 처리)
B5: **참고: (수량*단가)의 결과는 소수 한자리, 금액을 취합한 소계는 1원 이하 절사입니다.
A6: 3. | B6: 내역서에서는 수량에만 셀 속성을 '일반'으로 하였습니다.(소수점 능동 처리)
A7: 4. | B7: 단가수정은 '단가조사서'시트 에서 하십시오.
B8: a)표지와 원가 -> 총괄표 -> 내역서 ->일위대가와 합산자재 ->단가조사서 를 참조하고
B9: 있으므로 단가조사서의 결정단가를 수정하면 전체 금액이 갱신됩니다.
B10: **주의: 금액란은 공식이 걸려있으므로 조심하여 수정하십시오.
B11: b)전체 자재를 일정 요율(%)로 변경할 때는 옵션시트의 자재 적용율을 조정하면 됩니다.
A12: 5. | B12: 노임 단가는 '단가조사서'시트에서 품셈은 '노임근거'시트에서 수정하십시오.
B13: a)전체 노임을 일정 요율(%)로 변경할 때는 '옵션시트'의 전체노임 적용율을 조정하면 됩니다.
B14: b)공종별로 노임을 수정하려면 '옵션시트'의 공종별 노임 적용율을 조정하면 됩니다.
B15: c)케이블 및 전선 자재 단가를 추가로 조정하려면 그룹별 자재 적용율을 조정하면 됩니다.
B16: 그룹은 견적 프로그램에서 엑셀파일이 만들어질때 지정됩니다.
A17: 6. | B17: 겉표지의 모든 정보는 표지를 참조하였습니다.(정보 수정은 표지에서만 하시면 됩니다.)
A18: 7. | B18: 필수 :본 프로그램의 총 금액을 확인한 후 사용하십시오.
A19: 8. | B19: 본 파일의 내용을 인쇄할 경우, 미리보기를 통하여 페이지 절선을 확인 후 인쇄하십시오.
A20: 9. | B20: 관급자재 Sheet가 해당이 없을 경우엔 삭제하십시오.
A21: 10. | B21: 페이지 절선이 맞지 않으면 다음을 참고하십시오.
B33: a. 해당시트의 셀 전체를 선택합니다.
B34: b. 행높이를 적절히 가감하면 페이지 절선을 맞출 수 있습니다.
