Workbook

Sheet 이력서
B1: 전남형 만원주택사업 민간사업자 공모 관련 사업계획서 평가위원 후보자 등록 신청서
B3: 1. 성명 | D3: 한 글 | H3: 성 별 | J3: - | K3: 생년(년,월,일) | M3: - | Q3: 주의사항 | V3: 성별 | W3: 년도 | X3: 월 | Y3: 일 | Z3: 시도 | AA3: 직업군 | AB3: 전문분야 | AC3: 평가분야 | AD3: 자격등급 | AE3: 학위구분 | AF3: 졸업구분
B4: 2. 자택주소 | D4: 지 역 | H4: 상세주소 | Q4: 하얀색 부분(셀)은 직접입력, | V4: - | W4: - | X4: - | Y4: - | Z4: - | AA4: - | AB4: - | AC4: - | AD4: - | AE4: - | AF4: -
B5: 3. 연 락 처 | D5: 휴대전화 | J5: 이메일 | Q5: 노랑색 부분(셀)은 직접 입력하지 마시고 | V5: 남 | W5: 현재 | X5: 1 | Y5: 1 | Z5: 광주 | AA5: 학계(대학) | AB5: 건축계획 | AC5: 재무계획 | AD5: 기술사 | AE5: 학사 | AF5: 졸업
D6: 직장 | J6: 자택 | Q6: 클릭후, 오른쪽 화살표를 클릭하여 선택 | V6: 여 | W6: 1950 | X6: 2 | Y6: 2 | Z6: 전남 | AA6: 공무원 | AB6: 건축시공 | AC6: 임대계획 | AD6: 건축사 | AE6: 석사 | AF6: 수료
B7: 4. 전문분야 | D7: 1순위 | F7: - | H7: 2순위 | J7: - | L7: 6. 직 업 군 | Q7: 수정하실땐 Delete키 또는 BackSpace키 사용 | W7: 1951 | X7: 3 | Y7: 3 | Z7: 전북 | AA7: 공공기관 | AB7: 건설안전 | AC7: 개발계획 | AD7: 기사 | AE7: 박사 | AF7: 재학
B8: 5. 세부전공분야 | L8: (학계, 공무원, 공공기관, 지방공사, 기타) | W8: 1952 | X8: 4 | Y8: 4 | Z8: 기타 | AA8: 지방공사 | AD8: 산업기사
B9: 7. 직장현황 | D9: 직장(대학)명 | H9: 부서(학과) | L9: 담당업무 | W9: 1953 | X9: 5 | Y9: 5 | AA9: 기타 | AD9: 기타
D10: 직급 | H10: 직위 | W10: 1954 | X10: 6 | Y10: 6
D11: 주소 | E11: 지역 | H11: 상세주소 | W11: 1955 | X11: 7 | Y11: 7
B12: 8. 소속학회, NGO명 | D12: 학회(NGO)명 | J12: 직책 및 업무 | W12: 1956 | X12: 8 | Y12: 8
W13: 1957 | X13: 9 | Y13: 9
B14: 9. 학력사항 | D14: 학위취득(년,월) | F14: 출신학교 | H14: 학위구분 | J14: 졸업구분 | L14: 전공분야 | W14: 1958 | X14: 10 | Y14: 10
B15: (최종학력부터 기재) | W15: 1959 | X15: 11 | Y15: 11
W16: 1960 | X16: 12 | Y16: 12
W17: 1961 | Y17: 13
W18: 1962 | Y18: 14
B19: 10. 자격증 | D19: 취득년월 | F19: 자격증명 | K19: 자격증번호 | M19: 인가.관리기관 | W19: 1963 | Y19: 15
B20: (상위등급부터 작성) | W20: 1964 | Y20: 16
W21: 1965 | Y21: 17
W22: 1966 | Y22: 18
B23: 11. 경력사항 | D23: 근무기간 | I23: 근무처 | K23: 직위 | M23: 주요업무내용 | W23: 1967 | Y23: 19
B24: (별지양식 사용가능) | F24: ~ | W24: 1968 | Y24: 20
F25: ~ | W25: 1969 | Y25: 21
F26: ~ | W26: 1970 | Y26: 22
B27: 12. 주요저서 및 논문 | D27: 제출년월 | F27: 출판사.관련학회 | I27: 논문명 | L27: 주요논문내용 | W27: 1971 | Y27: 23
W28: 1972 | Y28: 24
B29: (별지양식 사용가능) | W29: 1973 | Y29: 25
W30: 1974 | Y30: 26
B31: 13. 위원회 참여실적 | D31: 참여기간 | I31: 기관명 | K31: 전문분야 | M31: 위원회명 | W31: 1975 | Y31: 27
F32: ~ | W32: 1976 | Y32: 28
B33: (별지양식 사용가능) | F33: ~ | W33: 1977 | Y33: 29
F34: ~ | W34: 1978 | Y34: 30
W35: 1979 | Y35: 31
B36: (증명사진- 선택) | W36: 1980
E37: 상기내용이 허위로 밝혀지는 경우 민.형사상의 모든 책임을 질 것을 서약합니다. | W37: 1981
I38: 2024 | K38: 년 | L38: 11 | M38: 월 | O38: 일 | W38: 1982
I39: 작성자 : | K39: =F3 -> 0 | N39: (서명 또는 인) | W39: 1983
W40: 1984
B41: 첨 부 : 자격사항 체크, 경력사항 및 주요저서(별지), 개인정보활용동의서 각 1부. | W41: 1985
W42: 1986
B43: 전남개발공사 사장 귀하 | W43: 1987
B44: 14. 자격사항 체크 (중복체크 가능) | W44: 1988
B45: ※ 자격사항 중 1개 항목 이상 해당사항이 있으면 후보자 신청이 가능합니다. | W45: 1989
B46: 체크 | C46: 항목 번호 | D46: 자격사항 내용 | W46: 1990
C47: 1 | D47: 해당 분야와 관련된 행정기관의 5급이상 공무원이거나 기술사(건축사 포함) 또는 박사학위를 소지한 6급이상 공무원으로 당해 직무 전문분야 경력자 | W47: 1991
C48: 2 | D48: 「공공기관의 운영에 관한 법률」에 따른 공기업 또는 준정부기관이나 「지방공기업법」에 따른 지방공사 또는 공단의 재직기간이 10년 이상으로 해당 분야 업무 경험이 있는 3급이상 직원 또는 기술사(건축사 포함), 해당 분야 박사학위를 소지한 3급이상 직원 | W48: 1992
C49: 3 | D49: 「공공기관의 운영에 관한 법률」에 따른 기타 공공기관의 책임연구원(선임연구위원)급 이상의 연구원 | W49: 1993
C50: 4 | D50: 「지방자치단체 출연 연구원의 설립 및 운영에 관한 법률」에 따른 연구기관의 책임연구원(선임연구위원)급 이상의 연구원 | W50: 1994
C51: 5 | D51: 「고등교육법」제2조에 해당하는 대학의 조교수, 부교수, 교수 중 관련분야 전공자 | W51: 1995
C52: 6 | D52: 그 밖의 해당 분야에서 제1호부터 제5호까지의 자격기준과 비교하여 동등한 전문지식이 있거나 실무경험이 있다고 공사 사장이 인정하는 자 | W52: 1996
B53: 15. 개인정보활용 동의서(동의함에 체크 및 성명, 서명 작성) | W53: 1997
W54: 1998
B55: ① 전남개발공사(이하 공사)의 개인정보 수집 및 이용 동의 | W55: 1999
W56: 2000
B57: [수집하는 개인정보의 항목] | W57: 2001
B58: 공사는 위원 후보자 신청 등록 접수 시 아래와 같은 개인정보를 수집하고 있습니다. | W58: 2002
B59: - 성명(한글,한자), 자택주소(현거주지), 연락처(휴대폰, 자택전화, 직장전화, 메일주소, 팩스번호), 직장명, 직장주소, 부서명, 직위, 직급, 직렬, 학회(소속NGO)명, 학회(소속NGO) 직책 및 업무, 학력현황, 자격증 보유현황, 전문분야, 세부전공분야, 경력사항, 주요저서 및 논문, 위원회 참여실적 등 | W59: 2003
B60: [개인정보 수집. 이용 목적] | W60: 2004
B61: 공사는 다음 사항에 대한 사업계획서 평가위원회 구성을 목적으로 개인정보를 수집합니다. | W61: 2005
B62: 1. 전남형 만원주택 민간참여 공공주택사업 민간사업자 공모 | W62: 2006
W63: 2007
B64: 공사는 위 개인정보에 대한 수집 목적에 해당하는 사항 발생 시, 제공한 연락처로 연락하여 평가위원 선정 동의 확인 후, 평가위원회를 개최하는 것에 한하여 활용합니다. | W64: 2008
B65: [개인정보 보유 및 이용기간] | W65: 2009
B66: 전남개발공사에서 운영하는 '전남형 만원주택사업 민간사업자 공모 사업계획서 평가위원회' 임기 종료일까지 | W66: 2010
B67: (후보자 등록신청기간 : 약 1개월, 민간사업자 공모 사업계획서 평가위원 임기는 위촉일로부터 1년이며, 임기 종료 후 파기함) | W67: 2011
B68: [개인정보 수집 동의 거부의 권리] | W68: 2012
B69: 평가위원 후보자 등록신청을 위하여 개인정보를 제공하고자 하는 자는 개인정보 활용 동의를 거부할 권리가 있으며, 거부할 경우 평가위원으로 선정되지 않음을 알려드립니다. | Q69: 주의사항 | W69: 2013
B70: 개인정보의 수집 및 이용목적에 동의하십니까?(해당란에 √표시) | K70: 동의함 | N70: 동의하지 않음 | R70: 동의함 "ㅁ"을 클릭하여 체크 | W70: 2014
G71: 동의자 확인 : | I71: 성명 | J71: =F3 -> 0 | M71: (인 또는 서명) | R71: 성명 및 서명 작성 | W71: 2015
W72: 2016
B73: ② 전남개발공사(이하 공사)의 고유식별정보 수집 및 이용 동의 | W73: 2017
B74: [수집하는 개인정보의 항목] | W74: 2018
B75: - 주민등록번호 | W75: 2019
B76: [개인정보 수집. 이용 목적] | W76: 2020
B77: - 원천징수영수증의 발급 | W77: 2021
B78: [개인정보 보유 및 이용기간] | W78: 2022
B79: 전남개발공사에서 운영하는 '전남형 만원주택사업 민간사업자 공모 사업계획서 평가위원회' 임기 종료일까지 | W79: 2023
B80: (후보자 등록신청기간 : 약 1개월, 민간사업자 공모 사업계획서 평가위원 임기는 위촉일로부터 1년이며, 임기 종료 후 파기함) | W80: 2024
B81: ※ 임기 중 보강하여 구성하는 경우의 해당자는 잔여임기동안 보유 및 이용 | W81: 2025
B82: [개인정보 수집 동의 거부의 권리] | Q82: 주의사항
B83: 평가위원 후보자 등록신청을 위하여 개인정보를 제공하고자 하는 자는 고유식별정보 활용 동의를 거부할 권리가 있으며, 거부할 경우 평가위원으로 선정되지 않음을 알려드립니다. | R83: 동의함 "ㅁ"을 클릭하여 체크
B84: 개인정보의 수집 및 이용목적에 동의하십니까?(해당란에 √표시) | K84: 동의함 | N84: 동의하지 않음 | R84: 성명 및 서명 작성
G85: 동의자 확인 : | I85: 성명 | J85: =F3 -> 0 | M85: (인 또는 서명)
B87: ③ 전남개발공사(이하 공사)의 개인정보 제3자 제공 동의
B88: 평가위원 후보자로 선정될 경우 홈페이지 게시를 통하여 전문분야, 소속, 성명을 제3자에게 정보 제공합니다.
B89: - 개인정보를 제공받는 자 : 불특정 다수 (홈페이지 게시)
B90: - 개인정보를 제공받는 자의 개인정보 이용 목적 : 전문분야별 자문위원 현황 참조
B91: - 제공하는 개인정보의 항목 : 전문분야, 소속, 성명
B92: - 개인정보를 제공받는 자의 개인정보 보유 및 이용기간
B93: : 홈페이지 게시 기간 (민간사업자 공모 사업계획서 평가위원 위촉일로부터 1년)
B94: ※ 임기 중 보강하여 구성하는 경우의 해당자는 잔여임기동안 게시
B95: - 개인정보의 제3자 제공에 동의하지 않을 권리가 있으며, 동의하지 않을 경우는 평가위원으로 위촉되지 않습니다. | Q95: 주의사항
B96: 개인정보의 수집 및 이용목적에 동의하십니까?(해당란에 √표시) | K96: 동의함 | N96: 동의하지 않음 | R96: 동의함 "ㅁ"을 클릭하여 체크
G97: 동의자 확인 : | I97: 성명 | J97: =F3 -> 0 | M97: (인 또는 서명) | R97: 성명 및 서명 작성

Sheet 경력사항, 주요저서 및 논문(별지양식)
A1: 경력사항, 주요저서 및 논문 (별지작성)
R2: 성별 | S2: 년도 | T2: 월 | U2: 일 | V2: 시도 | W2: 직업군 | X2: 전문분야 | Y2: 자격등급 | Z2: 학위구분 | AA2: 졸업구분
A3: 11.경력사항 | C3: 근무기간 | H3: 근무처 | J3: 직위 | L3: 주요업무내용 | R3: - | S3: - | T3: - | U3: - | V3: - | W3: - | X3: - | Y3: - | Z3: - | AA3: -
A4: (추가) | E4: ~ | R4: 남 | S4: 현재 | T4: 1 | U4: 1 | V4: 광주 | W4: 학계(대학) | X4: 도시계획 | Y4: 기술사 | Z4: 학사 | AA4: 졸업
E5: ~ | R5: 여 | S5: 1950 | T5: 2 | U5: 2 | V5: 전남 | W5: 공무원 | X5: 도시재생 | Y5: 건축사 | Z5: 석사 | AA5: 수료
E6: ~ | S6: 1951 | T6: 3 | U6: 3 | V6: 전북 | W6: 공공기관 | X6: 소방 | Y6: 기사 | Z6: 박사 | AA6: 재학
E7: ~ | S7: 1952 | T7: 4 | U7: 4 | V7: 기타 | W7: 지방공사 | X7: 건설안전 | Y7: 산업기사
E8: ~ | S8: 1953 | T8: 5 | U8: 5 | W8: 기타 | X8: 토목구조 | Y8: 기타
E9: ~ | S9: 1954 | T9: 6 | U9: 6 | X9: 토목시공
E10: ~ | S10: 1955 | T10: 7 | U10: 7 | X10: 측량
E11: ~ | S11: 1956 | T11: 8 | U11: 8 | X11: 토질및기초
E12: ~ | S12: 1957 | T12: 9 | U12: 9 | X12: 상하수도
E13: ~ | S13: 1958 | T13: 10 | U13: 10 | X13: 도로
E14: ~ | S14: 1959 | T14: 11 | U14: 11 | X14: 건축계획
E15: ~ | S15: 1960 | T15: 12 | U15: 12 | X15: 건축구조
E16: ~ | S16: 1961 | U16: 13 | X16: 건축시공
A17: 12. 주요저서 및 논문 | C17: 제출년월 | E17: 출판사.관련학회 | H17: 논문명 | K17: 주요논문내용 | S17: 1962 | U17: 14 | X17: 실내건축
S18: 1963 | U18: 15 | X18: 전기
A19: (추가) | S19: 1964 | U19: 16 | X19: 정보통신
S20: 1965 | U20: 17 | X20: 기계
S21: 1966 | U21: 18 | X21: 조경
S22: 1967 | U22: 19 | X22: 경관계획
S23: 1968 | U23: 20 | X23: 환경
S24: 1969 | U24: 21 | X24: 교통
S25: 1970 | U25: 22 | X25: 마켓팅
S26: 1971 | U26: 23 | X26: 관리운영
S27: 1972 | U27: 24 | X27: 임대운영
S28: 1973 | U28: 25 | X28: 재무
S29: 1974 | U29: 26 | X29: 부동산
S30: 1975 | U30: 27 | X30: 기타
S31: 1976 | U31: 28
S32: 1977 | U32: 29
S33: 1978 | U33: 30
A34: 13.위원회 참여 실적 | C34: 참여기간 | H34: 기관명 | J34: 전문분야 | L34: 위원회명 | S34: 1979 | U34: 31
E35: ~ | S35: 1980
A36: (추가) | E36: ~ | S36: 1981
E37: ~ | S37: 1982
E38: ~ | S38: 1983
E39: ~ | S39: 1984
E40: ~ | S40: 1985
E41: ~ | S41: 1986
E42: ~ | S42: 1987
E43: ~ | S43: 1988
E44: ~ | S44: 1989
E45: ~ | S45: 1990
E46: ~ | S46: 1991
E47: ~ | S47: 1992
E48: ~ | S48: 1993
S49: 1994
S50: 1995
S51: 1996
S52: 1997
S53: 1998
S54: 1999
S55: 2000
S56: 2001
S57: 2002
S58: 2003
S59: 2004
S60: 2005
... S77: 2022

Sheet 요약자료(변경금지)
X1: 자택 | Z1: 직장
B2: 성명 | C2: 성별 | D2: 생년 | E2: 월 | F2: 일 | G2: 휴대전화 | H2: 이메일 | I2: 직장 | J2: 전문분야1 | K2: 세부전공분야1 | L2: 전문분야2 | M2: 세부전공분야2 | N2: 직업군 | O2: 평가분야 | P2: 직장(대학명) | Q2: 부서(학과) | R2: 직급 | S2: 직위 | T2: 담당업무 | U2: 자격증1 | V2: 자격증2 | W2: 자격증3 | X2: 지역 | Y2: 상세주소 | Z2: 지역 | AA2: 상세주소
B3: =이력서!F3 -> 0 | C3: =이력서!J3 -> - | D3: =이력서!M3 -> - | E3: =이력서!N3 -> 0 | F3: =이력서!O3 -> 0 | G3: =이력서!F5 -> 0 | H3: =이력서!K5 -> 0 | I3: =이력서!F6 -> 0 | J3: =이력서!F7 -> - | K3: =이력서!F8 -> 0 | L3: =이력서!J7 -> - | M3: =이력서!J8 -> 0 | N3: =이력서!N7 -> 0 | O3: =이력서!L8 -> (학계, 공무원, 공공기관, 지방공사, 기타) | P3: =이력서!F9 -> 0 | Q3: =이력서!J9 -> 0 | R3: =이력서!F10 -> 0 | S3: =이력서!J10 -> 0 | T3: =이력서!N9 -> 0 | U3: =이력서!F20 -> 0 | V3: =이력서!F21 -> 0 | W3: =이력서!F22 -> 0 | X3: =이력서!F4 -> 0 | Y3: =이력서!J4 -> 0 | Z3: =이력서!F11 -> 0 | AA3: =이력서!J11 -> 0
